BEGIN:VCALENDAR
VERSION:2.0
PRODID:-//Mindfulness Hamilton - ECPv6.15.20//NONSGML v1.0//EN
CALSCALE:GREGORIAN
METHOD:PUBLISH
X-ORIGINAL-URL:https://mindfulnesshamilton.ca
X-WR-CALDESC:Events for Mindfulness Hamilton
REFRESH-INTERVAL;VALUE=DURATION:PT1H
X-Robots-Tag:noindex
X-PUBLISHED-TTL:PT1H
BEGIN:VTIMEZONE
TZID:UTC
BEGIN:STANDARD
TZOFFSETFROM:+0000
TZOFFSETTO:+0000
TZNAME:UTC
DTSTART:20150101T000000
END:STANDARD
END:VTIMEZONE
BEGIN:VEVENT
DTSTART;TZID=UTC:20160422T083000
DTEND;TZID=UTC:20160630T163000
DTSTAMP:20260421T093239
CREATED:20160307T094228Z
LAST-MODIFIED:20160307T183620Z
UID:10000053-1461313800-1467304200@mindfulnesshamilton.ca
SUMMARY:MINDFUL LEADERSHIP FOR FORMAL LEADERS
DESCRIPTION:Mindfulness is a way of meeting life’s challenges with greater calm and wisdom by paying attention to the present moment with openness and curiosity.  Mindfulness is fast becoming a proven way for leaders to sustain themselves and their teams in challenging times.  These workshops will introduce formal leaders to mindfulness concepts and practices\, exploring the synergy between mindfulness\, self-reflection and effective leadership. Participants will be given tools to promote personal self -awareness\, stress management\, resilience and emotional/physical well-being. Leadership effectiveness will be enhanced through exposure to practices that develop listening and communication skills\, sharpen focus\, improve interpersonal relationships and deepen wisdom to enable better decision-making. \nThere are 2 full-day workshops:  Part 1 and Part 2. Part 1 can be taken on its own or combined with Part 2.  Part 1 will introduce basic concepts and skills\, as well as illustrate ways that mindful leadership can be applied in day-to-day situations.  Part 2 will allow participants the opportunity to examine typical leadership challenges in greater depth\, using the skills of mindful leadership. \nEach workshop will involve a variety of mindfulness exercises. \nThese workshops are based on the book Mindful Leadership by Maria Gonzalez\, which will be on loan to participants. Audio practices will also be provided. \nCost (non HHS; must work in health care): $100 Staff cost (HHS Staff and Physicians): $75  \nPart 1:  Friday\, April 22\, 8:30 am – 4:30 pm Part 2:  Friday\, June 3\, 8:30 am – 4:30 pm (Pre-requisite: Part 1)  \nChedoke Site\, Wilcox Building\, Room B06  \nAnna Taneburgo \nAndrea Frolic \nTO REGISTER:  www.centreforpeopledevelopment.ca \n  \n 
URL:https://mindfulnesshamilton.ca/event/mindful-leadership-for-formal-leaders
LOCATION:Chedoke Site\,Wilcox Building\, Room B06 
END:VEVENT
END:VCALENDAR